BEGIN:VCALENDAR
VERSION:2.0
PRODID:www.gruene-loerrach.de
METHOD:PUBLISH
BEGIN:VTIMEZONE
TZID:Europe/Berlin
X-LIC-LOCATION:Europe/Berlin
BEGIN:DAYLIGHT
TZOFFSETFROM:+0100
TZOFFSETTO:+0200
TZNAME:CEST
DTSTART:19700329T020000
RRULE:FREQ=YEARLY;INTERVAL=1;BYDAY=-1SU;BYMONTH=3
END:DAYLIGHT
BEGIN:STANDARD
TZOFFSETFROM:+0200
TZOFFSETTO:+0100
TZNAME:CET
DTSTART:19701025T030000
RRULE:FREQ=YEARLY;INTERVAL=1;BYDAY=-1SU;BYMONTH=10
END:STANDARD
END:VTIMEZONE
BEGIN:VEVENT
UID:0a9142f4d4a2dc28542ae55fffa5f82f@www.gruene-loerrach.de
URL;VALUE=URI:https://www.gruene-loerrach.de/termine/buegerwindpark-blaue
 n/
LOCATION:Gasthaus zur Schnecke, Ziegelstraße 8, Kandern
SUMMARY:Bügerwindpark Blauen
DESCRIPTION;ALTREP="data:text/html,%0A%3Cpre%20class%3D%22wp-block-prefor
 matted%22%3ELiebe%20GR%C3%9CNE%20und%20Interessierte%2C%20%20%0A%0Agerne%
 20m%C3%B6chten%20wir%20euch%20einladen%20zum%20Vortrag%20von%20Peter%20Sc
 halajda.%20Der%20Veranstaltungsort%20ist%20das%20Gasthaus%20zur%20Schneck
 e%20in%20Kandern.%20%3C%2Fpre%3E%0A%0A%0A%0A%3Cpre%20class%3D%22wp-block-
 preformatted%22%3EOrganisiert%20vom%20OV%20Kandern.%3C%2Fpre%3E%0A":Liebe
  GRÜNE und Interessierte\,\n\ngerne möchten wir euch einladen zum Vortr
 ag von Peter Schalajda. Der Veranstaltungsort ist das Gasthaus zur Schnec
 ke in Kandern.\n\nOrganisiert vom OV Kandern.
CLASS:PUBLIC
DTSTART;TZID=Europe/Berlin:20231107T190000
DTEND;TZID=Europe/Berlin:20231107T210000
DTSTAMP:20260421T095045
END:VEVENT
END:VCALENDAR