BEGIN:VCALENDAR
VERSION:2.0
PRODID:www.gruene-loerrach.de
METHOD:PUBLISH
BEGIN:VTIMEZONE
TZID:Europe/Berlin
X-LIC-LOCATION:Europe/Berlin
BEGIN:DAYLIGHT
TZOFFSETFROM:+0100
TZOFFSETTO:+0200
TZNAME:CEST
DTSTART:19700329T020000
RRULE:FREQ=YEARLY;INTERVAL=1;BYDAY=-1SU;BYMONTH=3
END:DAYLIGHT
BEGIN:STANDARD
TZOFFSETFROM:+0200
TZOFFSETTO:+0100
TZNAME:CET
DTSTART:19701025T030000
RRULE:FREQ=YEARLY;INTERVAL=1;BYDAY=-1SU;BYMONTH=10
END:STANDARD
END:VTIMEZONE
BEGIN:VEVENT
UID:18d348d0c880028ec19135eb90589bf8@www.gruene-loerrach.de
URL;VALUE=URI:https://www.gruene-loerrach.de/termine/wahlkampfstand-loerr
 ach-3/
LOCATION:Alter Marktplatz, Lörrach
SUMMARY:Wahlkampfstand Lörrach
DESCRIPTION;ALTREP="data:text/html,%0A%3Cp%3EKommt%20mit%20uns%20ins%20Ge
 spr%C3%A4ch%21%20Wir%20freuen%20uns%20auf%20euch%21%3C%2Fp%3E%0A":Kommt m
 it uns ins Gespräch! Wir freuen uns auf euch!
CLASS:PUBLIC
DTSTART;TZID=Europe/Berlin:20260307T090000
DTEND;TZID=Europe/Berlin:20260307T140000
DTSTAMP:20260421T094823
END:VEVENT
END:VCALENDAR